BEGIN:VCALENDAR
VERSION:2.0
PRODID:-//eventon.com NONSGML v1.0//EN
CALSCALE:GREGORIAN
METHOD:PUBLISH
BEGIN:VEVENT
UID:69e83cbdf1b7a
DTSTAMP:20260422T031301Z
DTSTART:20250328T153000Z
DTEND:20250328T180000Z
LOCATION:
SUMMARY:Nueva fecha para la actividad "Riopudio Silvestre"
DESCRIPTION:Esperamos que el arroyo está espléndido y la actividad result
 e igual. &nbsp; &nbsp;\nhttps://adta.es/events/nueva-actividad-riopudio-sil
 vestre/
URL:https://adta.es/events/nueva-actividad-riopudio-silvestre/
END:VEVENT
END:VCALENDAR