BEGIN:VCALENDAR
VERSION:2.0
PRODID:-//eventon.com NONSGML v1.0//EN
CALSCALE:GREGORIAN
METHOD:PUBLISH
BEGIN:VEVENT
UID:69e825a7e24b6
DTSTAMP:20260422T013431Z
DTSTART:20250313T100000Z
DTEND:20250313T120000Z
LOCATION:
SUMMARY:Rueda de prensa sobre los impactos de la minería en Andalucía occidental
DESCRIPTION:\nhttps://adta.es/events/rueda-de-prensa-sobre-los-impactos-de-
 la-mineria-en-andalucia-occidental/
URL:https://adta.es/events/rueda-de-prensa-sobre-los-impactos-de-la-mineria-en-andalucia-occidental/
END:VEVENT
END:VCALENDAR