BEGIN:VCALENDAR
VERSION:2.0
PRODID:-//eventon.com NONSGML v1.0//EN
CALSCALE:GREGORIAN
METHOD:PUBLISH
BEGIN:VEVENT
UID:69e807a6d6dcf
DTSTAMP:20260421T232630Z
DTSTART:20250315T090000Z
DTEND:20250315T130000Z
LOCATION:
SUMMARY:Mercado agro ecológico del Aljarafe
DESCRIPTION:Esta vez se hablará de agroecología feminista.\nhttps://adta.
 es/events/mercado-agro-ecologico-del-aljarafe/
URL:https://adta.es/events/mercado-agro-ecologico-del-aljarafe/
END:VEVENT
END:VCALENDAR