BEGIN:VCALENDAR
VERSION:2.0
PRODID:-//eventon.com NONSGML v1.0//EN
CALSCALE:GREGORIAN
METHOD:PUBLISH
BEGIN:VEVENT
UID:69e7ed2ea64ac
DTSTAMP:20260421T213334Z
DTSTART:20250314T160000Z
DTEND:20250314T190000Z
LOCATION:
SUMMARY:EXPOSICIÓN EN SALTERAS: REFLEJOS DE DOÑANA EN SEVILLA
DESCRIPTION:A partir del 13 de marzo\,  el Espacio Cultural de Salteras aco
 gerá la exposición “REFLEJOS DE DOÑANA EN SEVILLA”. Una oportunidad 
 única para descubrir la belleza y la biodiversidad del Parque Nacional de 
 Doñana a través de las obras de diversos artistas. &nbsp; Gracias a la co
 laboración con la Diputación[..]\nhttps://adta.es/events/exposicion-en-sa
 lteras-reflejos-de-donana-en-sevilla/
URL:https://adta.es/events/exposicion-en-salteras-reflejos-de-donana-en-sevilla/
END:VEVENT
END:VCALENDAR