BEGIN:VCALENDAR
VERSION:2.0
PRODID:-//eventon.com NONSGML v1.0//EN
CALSCALE:GREGORIAN
METHOD:PUBLISH
BEGIN:VEVENT
UID:69e7d5abe1229
DTSTAMP:20260421T195315Z
DTSTART:20250321T230000Z
DTEND:20250322T120000Z
LOCATION:
SUMMARY:Concentración contra los vertidos mineros al Guadalquivir
DESCRIPTION:[caption id="attachment_4459" align="aligncenter" width="823"] 
 Screenshot[/caption]\nhttps://adta.es/events/concentracion-contra-los-verti
 dos-mineros-al-guadalquivir/
URL:https://adta.es/events/concentracion-contra-los-vertidos-mineros-al-guadalquivir/
END:VEVENT
END:VCALENDAR