BEGIN:VCALENDAR
VERSION:2.0
PRODID:-//eventon.com NONSGML v1.0//EN
CALSCALE:GREGORIAN
METHOD:PUBLISH
BEGIN:VEVENT
UID:69e7bc102b880
DTSTAMP:20260421T180400Z
DTSTART:20250405T073000Z
DTEND:20250404T223000Z
LOCATION:
SUMMARY:Recogida de residuos en Tablada
DESCRIPTION:Colaboración de OK PLANET con el FORO DE CONSERVACIÓN DE LA N
 ATURALEZA organizado por la asociación INICIATIVA NATURA en Tomares. OK PL
 ANET colabora con el Foro organizando dos recogidas de residuos simultánea
 s el mismo día 5: Una en Tablada\,  en cuyas márgenes el río ha dejado m
 uchos restos después de[..]\nhttps://adta.es/events/recogida-de-residuos-e
 n-tablada/
URL:https://adta.es/events/recogida-de-residuos-en-tablada/
END:VEVENT
END:VCALENDAR