BEGIN:VCALENDAR
VERSION:2.0
PRODID:-//eventon.com NONSGML v1.0//EN
CALSCALE:GREGORIAN
METHOD:PUBLISH
BEGIN:VEVENT
UID:69e7a32f2858b
DTSTAMP:20260421T161751Z
DTSTART:20250403T183000Z
DTEND:20250418T183000Z
LOCATION:
SUMMARY:Arte y naturaleza en Tomares
DESCRIPTION:\nhttps://adta.es/events/arte-y-naturaleza-en-tomares/
URL:https://adta.es/events/arte-y-naturaleza-en-tomares/
END:VEVENT
END:VCALENDAR