BEGIN:VCALENDAR
VERSION:2.0
PRODID:-//eventon.com NONSGML v1.0//EN
CALSCALE:GREGORIAN
METHOD:PUBLISH
BEGIN:VEVENT
UID:69e78d7cdd0d0
DTSTAMP:20260421T144516Z
DTSTART:20250419T080000Z
DTEND:20250419T120000Z
LOCATION:
SUMMARY:Mercado agro ecológico del Aljarafe 19 abril
DESCRIPTION:19 Abril 2025 &nbsp;\nhttps://adta.es/events/mercado-agro-ecolo
 gico-del-aljarafe-19abril/
URL:https://adta.es/events/mercado-agro-ecologico-del-aljarafe-19abril/
END:VEVENT
END:VCALENDAR