BEGIN:VCALENDAR
VERSION:2.0
PRODID:-//eventon.com NONSGML v1.0//EN
CALSCALE:GREGORIAN
METHOD:PUBLISH
BEGIN:VEVENT
UID:69e770c89df0f
DTSTAMP:20260421T124248Z
DTSTART:20250426T090000Z
DTEND:20250426T110000Z
LOCATION:
SUMMARY:PASEO DE ABRIL POR LA DEHESA DE TABLADA
DESCRIPTION:\nhttps://adta.es/events/paseo-de-abril-por-la-dehesa-de-tablad
 a/
URL:https://adta.es/events/paseo-de-abril-por-la-dehesa-de-tablada/
END:VEVENT
END:VCALENDAR