BEGIN:VCALENDAR
VERSION:2.0
PRODID:-//eventon.com NONSGML v1.0//EN
CALSCALE:GREGORIAN
METHOD:PUBLISH
BEGIN:VEVENT
UID:69e75e9dcdd90
DTSTAMP:20260421T112517Z
DTSTART:20250418T080000Z
DTEND:20250418T120000Z
LOCATION:
SUMMARY:XXVI Día Metropolitano de la Bicicleta
DESCRIPTION:\nhttps://adta.es/events/xxvi-dia-metropolitano-de-la-bicicleta
 /
URL:https://adta.es/events/xxvi-dia-metropolitano-de-la-bicicleta/
END:VEVENT
END:VCALENDAR