BEGIN:VCALENDAR
VERSION:2.0
PRODID:-//eventon.com NONSGML v1.0//EN
CALSCALE:GREGORIAN
METHOD:PUBLISH
BEGIN:VEVENT
UID:69e74acadd1c2
DTSTAMP:20260421T100042Z
DTSTART:20250503T090000Z
DTEND:20250503T130000Z
LOCATION:
SUMMARY:Mercadillo agroecológico de San Jerónimo
DESCRIPTION:[caption id="attachment_4614" align="aligncenter" width="714"] 
 Screenshot[/caption]\nhttps://adta.es/events/mercadillo-agroecologico-de-sa
 n-jeronimo/
URL:https://adta.es/events/mercadillo-agroecologico-de-san-jeronimo/
END:VEVENT
END:VCALENDAR