BEGIN:VCALENDAR
VERSION:2.0
PRODID:-//eventon.com NONSGML v1.0//EN
CALSCALE:GREGORIAN
METHOD:PUBLISH
BEGIN:VEVENT
UID:69e7369d384b0
DTSTAMP:20260421T083437Z
DTSTART:20250503T150000Z
DTEND:20250503T183000Z
LOCATION:
SUMMARY:Pospuesto: Nidos de aguilucho cenizo en Castilleja del Campo
DESCRIPTION:[caption id="attachment_4618" align="aligncenter" width="1030"]
  Screenshot[/caption]\nhttps://adta.es/events/nidos-de-aguilucho-cenizo-en-
 castilleja-del-campo/
URL:https://adta.es/events/nidos-de-aguilucho-cenizo-en-castilleja-del-campo/
END:VEVENT
END:VCALENDAR