BEGIN:VCALENDAR
VERSION:2.0
PRODID:-//eventon.com NONSGML v1.0//EN
CALSCALE:GREGORIAN
METHOD:PUBLISH
BEGIN:VEVENT
UID:69e8e4562db5f
DTSTAMP:20260422T150806Z
DTSTART:20251120T160000Z
DTEND:20251120T170000Z
LOCATION:
SUMMARY:Performance: Salvemos el Guadalquivir
DESCRIPTION:\nhttps://adta.es/events/performance-salvemos-el-guadalquivir/
URL:https://adta.es/events/performance-salvemos-el-guadalquivir/
END:VEVENT
END:VCALENDAR