BEGIN:VCALENDAR
VERSION:2.0
PRODID:-//eventon.com NONSGML v1.0//EN
CALSCALE:GREGORIAN
METHOD:PUBLISH
BEGIN:VEVENT
UID:69e8deb538a71
DTSTAMP:20260422T144405Z
DTSTART:20251122T080000Z
DTEND:20251122T170000Z
LOCATION:
SUMMARY:Acciones por la renaturalización del Tamarguillo
DESCRIPTION:[caption id="attachment_5483" align="aligncenter" width="838"] 
 Screenshot[/caption]\nhttps://adta.es/events/acciones-por-la-renaturalizaci
 on-del-tamarguillo/
URL:https://adta.es/events/acciones-por-la-renaturalizacion-del-tamarguillo/
END:VEVENT
END:VCALENDAR