BEGIN:VCALENDAR
VERSION:2.0
PRODID:-//eventon.com NONSGML v1.0//EN
CALSCALE:GREGORIAN
METHOD:PUBLISH
BEGIN:VEVENT
UID:69e8b69dcc9b0
DTSTAMP:20260422T115301Z
DTSTART:20251201T170000Z
DTEND:20251201T183000Z
LOCATION:
SUMMARY:Debate sobre la Ley de Movilidad Sostenible
DESCRIPTION:La aprobación definitiva de la Ley de Movilidad Sostenible esp
 añola abre un escenario novedoso para nuestra comarca y nuestros municipio
 s. Por ello vemos interesante este webinar que preve reflexionar sobre 2 pr
 eguntas: ◽️ ¿Qué oportunidades plantea la nueva Ley? ◽️ ¿Cuáles
  son los próximos pasos que han de darse y[..]\nhttps://adta.es/events/deb
 ate-sobre-la-ley-de-movilidad-sostenible/
URL:https://adta.es/events/debate-sobre-la-ley-de-movilidad-sostenible/
END:VEVENT
END:VCALENDAR