BEGIN:VCALENDAR
VERSION:2.0
PRODID:-//eventon.com NONSGML v1.0//EN
CALSCALE:GREGORIAN
METHOD:PUBLISH
BEGIN:VEVENT
UID:69e899e80421e
DTSTAMP:20260422T095032Z
DTSTART:20251213T100000Z
DTEND:20251213T120000Z
LOCATION:
SUMMARY:Paseo de diciembre por Tablada
DESCRIPTION:\nhttps://adta.es/events/paseo-de-diciembre-por-tablada/
URL:https://adta.es/events/paseo-de-diciembre-por-tablada/
END:VEVENT
END:VCALENDAR