BEGIN:VCALENDAR
VERSION:2.0
PRODID:-//eventon.com NONSGML v1.0//EN
CALSCALE:GREGORIAN
METHOD:PUBLISH
BEGIN:VEVENT
UID:69e886295cf11
DTSTAMP:20260422T082617Z
DTSTART:20251213T093000Z
DTEND:20251213T120000Z
LOCATION:
SUMMARY:Paseo por las lagunas del Cortijo de Cuarto
DESCRIPTION:\nhttps://adta.es/events/paseo-por-las-lagunas-del-cortijo-de-c
 uarto/
URL:https://adta.es/events/paseo-por-las-lagunas-del-cortijo-de-cuarto/
END:VEVENT
END:VCALENDAR