BEGIN:VCALENDAR
VERSION:2.0
PRODID:-//eventon.com NONSGML v1.0//EN
CALSCALE:GREGORIAN
METHOD:PUBLISH
BEGIN:VEVENT
UID:69e86df5a2406
DTSTAMP:20260422T064301Z
DTSTART:20251218T173000Z
DTEND:20251218T193000Z
LOCATION:
SUMMARY:El agua: derecho humano y bien común en el área metropolitana
DESCRIPTION:JUEVES 18 DICIEMBRE\,  a las 18\, 30 h. C/Resolana\, 8\, local.
 Sevilla\nhttps://adta.es/events/el-agua-derecho-humano-y-bien-comun-en-el-a
 rea-metropolitana/
URL:https://adta.es/events/el-agua-derecho-humano-y-bien-comun-en-el-area-metropolitana/
END:VEVENT
END:VCALENDAR