BEGIN:VCALENDAR
VERSION:2.0
PRODID:-//eventon.com NONSGML v1.0//EN
CALSCALE:GREGORIAN
METHOD:PUBLISH
BEGIN:VEVENT
UID:69e8515721823
DTSTAMP:20260422T044055Z
DTSTART:20260111T093000Z
DTEND:20260111T123000Z
LOCATION:
SUMMARY:Jornada de reforestación en isla de tercia
DESCRIPTION:\nhttps://adta.es/events/jornada-de-reforestacion-en-isla-de-te
 rcia/
URL:https://adta.es/events/jornada-de-reforestacion-en-isla-de-tercia/
END:VEVENT
END:VCALENDAR