BEGIN:VCALENDAR
VERSION:2.0
PRODID:-//eventon.com NONSGML v1.0//EN
CALSCALE:GREGORIAN
METHOD:PUBLISH
BEGIN:VEVENT
UID:69e8364362fc7
DTSTAMP:20260422T024523Z
DTSTART:20260114T173000Z
DTEND:20260114T193000Z
LOCATION:
SUMMARY:El anillo verde y azul de Sevilla. Debate
DESCRIPTION:\nhttps://adta.es/events/el-anillo-verde-y-azul-de-sevilla-deba
 te/
URL:https://adta.es/events/el-anillo-verde-y-azul-de-sevilla-debate/
END:VEVENT
END:VCALENDAR