BEGIN:VCALENDAR
VERSION:2.0
PRODID:-//eventon.com NONSGML v1.0//EN
CALSCALE:GREGORIAN
METHOD:PUBLISH
BEGIN:VEVENT
UID:69e83220b7df2
DTSTAMP:20260422T022744Z
DTSTART:20260117T090000Z
DTEND:20260117T130000Z
LOCATION:
SUMMARY:Mercado agroecológico de enero
DESCRIPTION:Esta vez\,  con un taller de quesos. &nbsp;\nhttps://adta.es/ev
 ents/mercado-agroecologico-de-enero/
URL:https://adta.es/events/mercado-agroecologico-de-enero/
END:VEVENT
END:VCALENDAR