BEGIN:VCALENDAR
VERSION:2.0
PRODID:-//eventon.com NONSGML v1.0//EN
CALSCALE:GREGORIAN
METHOD:PUBLISH
BEGIN:VEVENT
UID:69e8023cbaf22
DTSTAMP:20260421T230324Z
DTSTART:20260123T180000Z
DTEND:20260123T193000Z
LOCATION:
SUMMARY:Presentación del libro: La gran oportunidad
DESCRIPTION:\nhttps://adta.es/events/presentacion-del-libro-la-gran-oportun
 idad/
URL:https://adta.es/events/presentacion-del-libro-la-gran-oportunidad/
END:VEVENT
END:VCALENDAR