BEGIN:VCALENDAR
VERSION:2.0
PRODID:-//eventon.com NONSGML v1.0//EN
CALSCALE:GREGORIAN
METHOD:PUBLISH
BEGIN:VEVENT
UID:69e7e99274de5
DTSTAMP:20260421T211810Z
DTSTART:20260117T100000Z
DTEND:20260117T123000Z
LOCATION:
SUMMARY:Paseo de enero por Tablada
DESCRIPTION:\nhttps://adta.es/events/paseo-de-enero-por-tablada-2/
URL:https://adta.es/events/paseo-de-enero-por-tablada-2/
END:VEVENT
END:VCALENDAR