BEGIN:VCALENDAR
VERSION:2.0
PRODID:-//eventon.com NONSGML v1.0//EN
CALSCALE:GREGORIAN
METHOD:PUBLISH
BEGIN:VEVENT
UID:69e7d0ac4636d
DTSTAMP:20260421T193156Z
DTSTART:20260124T103000Z
DTEND:20260124T120000Z
LOCATION:
SUMMARY:Actividad aplazada
DESCRIPTION:Interpretación hidrológico forestal de la ruta &nbsp;\nhttps:
 //adta.es/events/subida-hacia-el-extremo-nordeste-de-la-cornisa-del-aljaraf
 e/
URL:https://adta.es/events/subida-hacia-el-extremo-nordeste-de-la-cornisa-del-aljarafe/
END:VEVENT
END:VCALENDAR