BEGIN:VCALENDAR
VERSION:2.0
PRODID:-//eventon.com NONSGML v1.0//EN
CALSCALE:GREGORIAN
METHOD:PUBLISH
BEGIN:VEVENT
UID:69e7baefe4fae
DTSTAMP:20260421T175911Z
DTSTART:20260129T180000Z
DTEND:20260129T193000Z
LOCATION:
SUMMARY:Pesca acuicultura y marisqueo en el estuario. Presentación del proyecto.
DESCRIPTION:\nhttps://adta.es/events/pesca-acuicultura-y-marisqueo-en-el-ve
 stuario-presentacion-del-proyecto/
URL:https://adta.es/events/pesca-acuicultura-y-marisqueo-en-el-vestuario-presentacion-del-proyecto/
END:VEVENT
END:VCALENDAR