BEGIN:VCALENDAR
VERSION:2.0
PRODID:-//eventon.com NONSGML v1.0//EN
CALSCALE:GREGORIAN
METHOD:PUBLISH
BEGIN:VEVENT
UID:69e7a65504746
DTSTAMP:20260421T163117Z
DTSTART:20260122T170000Z
DTEND:20260122T183000Z
LOCATION:
SUMMARY:Bormujos: el Ayuntamiento presenta los planes urbanísticos
DESCRIPTION:Ver detalles\nhttps://adta.es/events/bormujos-el-ayuntamiento-p
 resenta-los-planes-urbanisticos/
URL:https://adta.es/events/bormujos-el-ayuntamiento-presenta-los-planes-urbanisticos/
END:VEVENT
END:VCALENDAR