BEGIN:VCALENDAR
VERSION:2.0
PRODID:-//eventon.com NONSGML v1.0//EN
CALSCALE:GREGORIAN
METHOD:PUBLISH
BEGIN:VEVENT
UID:69e79396037d1
DTSTAMP:20260421T151118Z
DTSTART:20260124T090000Z
DTEND:20260124T123000Z
LOCATION:
SUMMARY:Actividad aplazada
DESCRIPTION:La actividad se viene llamando plogging\, y consistirá en cami
 nar recogiendo basura durante el recorrido. La convocatoria surge de la pla
 taforma por el anillo verde y azul de Sevilla y su área metropolitana; ini
 ciativa ciudadana que viene animando al Ayuntamiento de Sevilla a su ejecuc
 ión. [caption id="attachment_5826" align="aligncenter" width="734"] Screen
 shot[/caption] Ver[..]\nhttps://adta.es/events/caminar-y-recoger-residuos-d
 esde-el-puente-al-estadio/
URL:https://adta.es/events/caminar-y-recoger-residuos-desde-el-puente-al-estadio/
END:VEVENT
END:VCALENDAR