BEGIN:VCALENDAR
VERSION:2.0
PRODID:-//eventon.com NONSGML v1.0//EN
CALSCALE:GREGORIAN
METHOD:PUBLISH
BEGIN:VEVENT
UID:69e7935d623ed
DTSTAMP:20260421T151021Z
DTSTART:20260221T093000Z
DTEND:20260221T130000Z
LOCATION:
SUMMARY:Día mundial de los humedales en Cañada de los Pájaros
DESCRIPTION:Se viene celebrado el 2 de febrero desde 1997\,  habiéndose pr
 oclamado por la ONU en 2021. Ver detalles aquí. En Cañada de los Pájaros
  se ha pospuesto al sábado 21.\nhttps://adta.es/events/5802/
URL:https://adta.es/events/5802/
END:VEVENT
END:VCALENDAR