BEGIN:VCALENDAR
VERSION:2.0
PRODID:-//eventon.com NONSGML v1.0//EN
CALSCALE:GREGORIAN
METHOD:PUBLISH
BEGIN:VEVENT
UID:69e762e0746ac
DTSTAMP:20260421T114328Z
DTSTART:20260207T100000Z
DTEND:20260207T120000Z
LOCATION:
SUMMARY:Charla sobre la mina de Aznalcollar
DESCRIPTION:\nhttps://adta.es/events/charla-sobre-la-mina-de-aznalcollar/
URL:https://adta.es/events/charla-sobre-la-mina-de-aznalcollar/
END:VEVENT
END:VCALENDAR