BEGIN:VCALENDAR
VERSION:2.0
PRODID:-//eventon.com NONSGML v1.0//EN
CALSCALE:GREGORIAN
METHOD:PUBLISH
BEGIN:VEVENT
UID:69e74c1475131
DTSTAMP:20260421T100612Z
DTSTART:20260128T173000Z
DTEND:20260128T193000Z
LOCATION:
SUMMARY:¿Está Sevilla preparada ante lluvias extremas?  Debate
DESCRIPTION:\nhttps://adta.es/events/5836/
URL:https://adta.es/events/5836/
END:VEVENT
END:VCALENDAR