BEGIN:VCALENDAR
VERSION:2.0
PRODID:-//eventon.com NONSGML v1.0//EN
CALSCALE:GREGORIAN
METHOD:PUBLISH
BEGIN:VEVENT
UID:69e78853ad647
DTSTAMP:20260421T142315Z
DTSTART:20260220T190000Z
DTEND:20260220T200000Z
LOCATION:
SUMMARY:Presentación\,  proyección y coloquio del corto: "Calorcito vital"
DESCRIPTION:Aprovechamos el generoso ofrecimiento del equipo responsable pa
 ra hacer esta sesión "cine-forum" Calorcito Vital es una fábula simbólic
 a decrecentista que cuenta la historia de tres mujeres que se refugian en u
 na vieja cabaña de madera durante una implacable tormenta de nieve. Cuando
  una de ellas tiene un plan para mejorar[..]\nhttps://adta.es/events/presen
 tacion-proyeccion-y-coloquio-del-corto-calorcito-vital/
URL:https://adta.es/events/presentacion-proyeccion-y-coloquio-del-corto-calorcito-vital/
END:VEVENT
END:VCALENDAR