BEGIN:VCALENDAR
VERSION:2.0
PRODID:-//eventon.com NONSGML v1.0//EN
CALSCALE:GREGORIAN
METHOD:PUBLISH
BEGIN:VEVENT
UID:69e819d4403ea
DTSTAMP:20260422T004404Z
DTSTART:20260221T100000Z
DTEND:20260221T130000Z
LOCATION:
SUMMARY:Paseo de febrero por Tablada
DESCRIPTION:\nhttps://adta.es/events/paseo-de-febrero-por-tablada/
URL:https://adta.es/events/paseo-de-febrero-por-tablada/
END:VEVENT
END:VCALENDAR