BEGIN:VCALENDAR
VERSION:2.0
PRODID:-//eventon.com NONSGML v1.0//EN
CALSCALE:GREGORIAN
METHOD:PUBLISH
BEGIN:VEVENT
UID:69e8010acefa4
DTSTAMP:20260421T225818Z
DTSTART:20260219T180000Z
DTEND:20260219T200000Z
LOCATION:
SUMMARY:Conferencia: Diez años de estudios ecológicos en el estuario
DESCRIPTION:\nhttps://adta.es/events/conferencia-diez-anos-de-estudios-ecol
 ogicos-en-el-estuario/
URL:https://adta.es/events/conferencia-diez-anos-de-estudios-ecologicos-en-el-estuario/
END:VEVENT
END:VCALENDAR