BEGIN:VCALENDAR
VERSION:2.0
PRODID:-//eventon.com NONSGML v1.0//EN
CALSCALE:GREGORIAN
METHOD:PUBLISH
BEGIN:VEVENT
UID:69e7eadb23b3c
DTSTAMP:20260421T212339Z
DTSTART:20260224T180000Z
DTEND:20260224T200000Z
LOCATION:
SUMMARY:Conferencia: Esclavitud en el sur del Aljarafe
DESCRIPTION:\nhttps://adta.es/events/conferencia-esclavitud-en-el-sur-del-a
 ljarafe/
URL:https://adta.es/events/conferencia-esclavitud-en-el-sur-del-aljarafe/
END:VEVENT
END:VCALENDAR