BEGIN:VCALENDAR
VERSION:2.0
PRODID:-//eventon.com NONSGML v1.0//EN
CALSCALE:GREGORIAN
METHOD:PUBLISH
BEGIN:VEVENT
UID:69e7d0f56da5b
DTSTAMP:20260421T193309Z
DTSTART:20260303T180000Z
DTEND:20260303T200000Z
LOCATION:
SUMMARY:Conferencia: Viaje gráfico por la ría
DESCRIPTION:\nhttps://adta.es/events/conferencia-viaje-grafico-por-la-ria/
URL:https://adta.es/events/conferencia-viaje-grafico-por-la-ria/
END:VEVENT
END:VCALENDAR