BEGIN:VCALENDAR
VERSION:2.0
PRODID:-//eventon.com NONSGML v1.0//EN
CALSCALE:GREGORIAN
METHOD:PUBLISH
BEGIN:VEVENT
UID:69e7b6bec77b0
DTSTAMP:20260421T174118Z
DTSTART:20260225T170000Z
DTEND:20260225T190000Z
LOCATION:
SUMMARY:Árboles y Bellavista: Conferencia y performance.
DESCRIPTION:\nhttps://adta.es/events/arboles-y-bellavista-conferencia-y-per
 formance/
URL:https://adta.es/events/arboles-y-bellavista-conferencia-y-performance/
END:VEVENT
END:VCALENDAR