BEGIN:VCALENDAR
VERSION:2.0
PRODID:-//eventon.com NONSGML v1.0//EN
CALSCALE:GREGORIAN
METHOD:PUBLISH
BEGIN:VEVENT
UID:69e7a12f14279
DTSTAMP:20260421T160919Z
DTSTART:20260221T090000Z
DTEND:20260221T130000Z
LOCATION:
SUMMARY:Esta vez con taller sobre hogar libre de tóxicos
DESCRIPTION:\nhttps://adta.es/events/esta-vez-con-taller-sobre-hogar-libre-
 de-toxicos/
URL:https://adta.es/events/esta-vez-con-taller-sobre-hogar-libre-de-toxicos/
END:VEVENT
END:VCALENDAR