BEGIN:VCALENDAR
VERSION:2.0
PRODID:-//eventon.com NONSGML v1.0//EN
CALSCALE:GREGORIAN
METHOD:PUBLISH
BEGIN:VEVENT
UID:69e78d9dde6b7
DTSTAMP:20260421T144549Z
DTSTART:20260307T100000Z
DTEND:20260307T120000Z
LOCATION:
SUMMARY:Encuentro participativo: SOS Guadalquivir
DESCRIPTION:\nhttps://adta.es/events/encuentro-participativo-sos-guadalquiv
 ir/
URL:https://adta.es/events/encuentro-participativo-sos-guadalquivir/
END:VEVENT
END:VCALENDAR