BEGIN:VCALENDAR
VERSION:2.0
PRODID:-//eventon.com NONSGML v1.0//EN
CALSCALE:GREGORIAN
METHOD:PUBLISH
BEGIN:VEVENT
UID:69e75c95a6e19
DTSTAMP:20260421T111637Z
DTSTART:20260307T090000Z
DTEND:20260307T123000Z
LOCATION:
SUMMARY:Ruta senderista por el Castillo de las Guardas
DESCRIPTION:&nbsp; Una oportunidad de conocer un tramo del trazado del ferr
 ocarril minero de Cala\,  ramal Castillo de las Guardas - Nerva Más inform
 ación lariguela.es\nhttps://adta.es/events/ruta-senderista-por-el-castillo
 -de-las-guardas/
URL:https://adta.es/events/ruta-senderista-por-el-castillo-de-las-guardas/
END:VEVENT
END:VCALENDAR