BEGIN:VCALENDAR
VERSION:2.0
PRODID:-//eventon.com NONSGML v1.0//EN
CALSCALE:GREGORIAN
METHOD:PUBLISH
BEGIN:VEVENT
UID:69e7486a812bd
DTSTAMP:20260421T095034Z
DTSTART:20260228T093000Z
DTEND:20260228T123000Z
LOCATION:
SUMMARY:Marcha por la cornisa del Aljarafe
DESCRIPTION:Nueva marcha reivindicativa del Anillo Verde y Azul: la futura 
 red de espacios libres y verdes entorno al área metropolitana de Sevilla. 
 En esta ocasión la marcha continúa desde la orilla izquierda del Guadalqu
 ivir\,  Lugar de Interés Comunitario\,  a la Cornisa del Aljarafe\,  visit
 ando espacios emblemáticos de la mano de[..]\nhttps://adta.es/events/march
 a-por-la-cornisa-del-aljarafe/
URL:https://adta.es/events/marcha-por-la-cornisa-del-aljarafe/
END:VEVENT
END:VCALENDAR