BEGIN:VCALENDAR
VERSION:2.0
PRODID:-//eventon.com NONSGML v1.0//EN
CALSCALE:GREGORIAN
METHOD:PUBLISH
BEGIN:VEVENT
UID:69e731d17d554
DTSTAMP:20260421T081409Z
DTSTART:20260307T080000Z
DTEND:20260306T233500Z
LOCATION:
SUMMARY:Reforestación Participativa
DESCRIPTION:Programa de Sensibilización y Participación Ambiental en la R
 ed Natura 2000 de Andalucía ESPACIO NATURAL RED NATURA 2000 Doñana Norte 
 y Oeste "Reforestación Participativa" Entorno de Pilas. ZEC Doñana Norte 
 y Oeste (ES6150009) &nbsp;\nhttps://adta.es/events/reforestacion-participat
 iva/
URL:https://adta.es/events/reforestacion-participativa/
END:VEVENT
END:VCALENDAR