BEGIN:VCALENDAR
VERSION:2.0
PRODID:-//eventon.com NONSGML v1.0//EN
CALSCALE:GREGORIAN
METHOD:PUBLISH
BEGIN:VEVENT
UID:69e744e8ce112
DTSTAMP:20260421T093536Z
DTSTART:20260530T160000Z
DTEND:20260530T183000Z
LOCATION:
SUMMARY:Alamillo Climático: jornada abierta y gratuita
DESCRIPTION:Ver detalles. &nbsp;\nhttps://adta.es/events/alamillo-climatico
 -jornada-abierta-y-gratuita/
URL:https://adta.es/events/alamillo-climatico-jornada-abierta-y-gratuita/
END:VEVENT
END:VCALENDAR